BEGIN:VCALENDAR
VERSION:2.0
PRODID:icalendar-ruby
CALSCALE:GREGORIAN
METHOD:PUBLISH
BEGIN:VEVENT
DTSTAMP:20260423T204949Z
UID:270-812677@rosedaleunited.org
DTSTART:20260922T131500Z
DTEND:20260922T141500Z
CLASS:PUBLIC
CREATED:20260423T152506
DESCRIPTION:Time: Tuesday and Thursdays online @ 9:15am\nInstructor: Miriam
  Patterson\nCost: $10/session\nTO REGISTER: To receive the Zoom link pleas
 e email Miriam Patterson at miriam@practicewithmiriam.com\nDescription:\nY
 oga offers us many tools that\, when used with intention\, can greatly imp
 act our sense of well-being and health. The tools of yoga include Asana (p
 hysical postures)\, pranayama (breath work)\, dhyana (meditation)\, chanti
 ng (sound)\, prayers\, diet\, exercise\, being in nature\, as well as enga
 ging with family and community.\nWorking regularly with a yoga therapist\,
  can help consolidate your home practice so that you feel more in charge o
 f your health and well-being.
LAST-MODIFIED:20260423T152506
LOCATION:Online
SUMMARY:Online Chair Yoga
URL;VALUE=URI:https://www.rosedaleunited.org/events/online-chair-yoga/2026-
 09-22
ATTACH;FILENAME=istockphoto-1312788257-612x612.jpg;FMTTYPE=image/jpeg:https
 ://dq5pwpg1q8ru0.cloudfront.net/2025/08/21/14/40/09/39d8a3c2-2abf-4ada-afe
 3-1d770545dcbf/istockphoto-1312788257-612x612.jpg
END:VEVENT
END:VCALENDAR
