BEGIN:VCALENDAR
VERSION:2.0
PRODID:icalendar-ruby
CALSCALE:GREGORIAN
METHOD:PUBLISH
BEGIN:VEVENT
DTSTAMP:20260419T154213Z
UID:297-789437@rosedaleunited.org
DTSTART:20260419T160000Z
DTEND:20260419T180000Z
CLASS:PUBLIC
CREATED:20260416T143931
DESCRIPTION:The members of the Church Board and Trustees look forward to yo
 ur attendance and informed participation at our Annual General Meeting
  (“AGM”).  We will celebrate the work of 2025 and look ahead to our 
 2026 season.   \n Meeting Time and Location:\nThe meeting will be he
 ld in the Sanctuary at 11:45am immediately following our Sunday morning se
 rvice on April 26\, 2026.   If you are planning to attend the AGM in per
 son\, you will be asked to sign in when you arrive before our Sunday worsh
 ip.\n\nZoom participation for the AGM will also be available for those not
  able to attend in person.   If you will be joining the AGM via Zoom\, p
 lease send an email to our Board Secretary Fabien Fourmanoit at rucboards
 ecretary@mailworks.org\, so he will know to record your participation as o
 n the Members or Adherents list in advance of the meeting.  If you are p
 articipating remotely\, you will be required to have your video camera tur
 ned on\, your screen labelled with your name(s) and your audio muted excep
 t when you are asking a question or making a comment.  Rev. Dr. Kristin P
 hilipson will be your in-Sanctuary monitor to make sure you are able to pa
 rticipate.\n\nCoffee Hour/Light Lunch:\nOur Sunday after service social ga
 thering will take place in the Sanctuary with coffee\, sandwiches and swee
 ts provided so we can move swiftly from our service through to our meetin
 g and the rest of our Sunday activities.\n\n\nAgenda &amp\; Meeting Docum
 ents:\nTo be distributed electronically closer to the date of the AGM.\n\n
 If you have any other questions about this meeting\, please reach out to 
 Bob Medland at medland@sympatico.ca.\n
LAST-MODIFIED:20260416T143931
LOCATION:Sanctuary
SUMMARY:Annual General Meeting (AGM)
URL;VALUE=URI:https://www.rosedaleunited.org/events/annual-general-meeting-
 agm/2026-04-19
ATTACH;FILENAME=IMG_7619.JPG;FMTTYPE=image/jpeg:https://dq5pwpg1q8ru0.cloud
 front.net/2025/09/29/18/41/07/3e9221c0-8b27-4c10-b6ff-3ce3a67e8d4d/IMG_761
 9.JPG
END:VEVENT
END:VCALENDAR
