BEGIN:VCALENDAR
VERSION:2.0
PRODID:icalendar-ruby
CALSCALE:GREGORIAN
METHOD:PUBLISH
BEGIN:VEVENT
DTSTAMP:20260424T003413Z
UID:278-813292@rosedaleunited.org
DTSTART:20260922T000000Z
DTEND:20260922T013000Z
CLASS:PUBLIC
CREATED:20260423T181913
DESCRIPTION:If drinking has become a problem\, there is help. For the past 
 32 years\, the Rox Glen Traditional Group of Alcoholics Anonymous (AA®) h
 as been meeting at The Rosedale Centre / Rosedale United Church.\n\n"AA® 
 is a fellowship of men and women who share their experience\, strength and
  hope with each other that they may solve their common problem and help ot
 hers to recover from alcoholism. The only requirement for membership is a 
 desire to stop drinking. There are no dues or fees for AA® membership\; w
 e are self-supporting through our own contributions. AA® is not allied wi
 th any sect\, denomination\, politics\, organizations or institutions\; do
 es not wish to engage in any controversy\, neither endorses nor opposes an
 y causes. Our primary purpose is to stay sober and help other alcoholics t
 o achieve sobriety" – reprinted by permission of AA Grapevine Inc.\nYou 
 are invited to join a meeting or call the Greater Toronto Area Intergroup 
 Office at 416-487-5591 (available 24/7)\, or visit www.aatoronto.org.\nMon
 days are "closed" discussion meetings. Closed Discussion Meetings are for 
 alcoholics and those who think they may have a drinking problem. Members s
 hare their experience with how the 12 Steps of Alcoholics Anonymous have\n
 helped them to get sober and enjoy a fulfilling life in recovery. Open mee
 ting are held on Thursdays. 
LAST-MODIFIED:20260423T181913
LOCATION:Copp Hall
SUMMARY:AA Meetings at The Rosedale Centre
URL;VALUE=URI:https://www.rosedaleunited.org/events/aa-meetings-at-the-rose
 dale-centre/2026-09-21
END:VEVENT
END:VCALENDAR
