BEGIN:VCALENDAR
VERSION:2.0
PRODID:icalendar-ruby
CALSCALE:GREGORIAN
METHOD:PUBLISH
BEGIN:VEVENT
DTSTAMP:20260423T200437Z
UID:279-812805@rosedaleunited.org
DTSTART:20261009T000000Z
DTEND:20261009T013000Z
CLASS:PUBLIC
CREATED:20260423T152506
DESCRIPTION:If drinking has become a problem\, there is help. For the past 
 32 years\, the Rox Glen Traditional Group of Alcoholics Anonymous (AA®) h
 as been meeting at The Rosedale Centre / Rosedale United Church.\n"AA® is
  a fellowship of men and women who share their experience\, strength and h
 ope with each other that they may solve their common problem and help othe
 rs to recover from alcoholism. The only requirement for membership is a de
 sire to stop drinking. There are no dues or fees for AA® membership\; we 
 are self-supporting through our own contributions. AA® is not allied with
  any sect\, denomination\, politics\, organizations or institutions\; does
  not wish to engage in any controversy\, neither endorses nor opposes any 
 causes. Our primary purpose is to stay sober and help other alcoholics to 
 achieve sobriety&amp\;quot\; – reprinted by permission of AA Grapevine I
 nc.\nYou are invited to join a meeting or call the Greater Toronto Area In
 tergroup Office at 416-487-5591 (available 24/7)\, or visit www.aatoronto.
 org.\nThursdays are "open" meetings. Weekly speaker\, refreshments served.
  A member of AA shares their experience in getting sober and how they appl
 y the AA Program in daily living. The general public and anyone interested
  in the AA program are invited to attend.
LAST-MODIFIED:20260423T152506
LOCATION:Copp Hall
SUMMARY:AA Meetings at The Rosedale Centre
URL;VALUE=URI:https://www.rosedaleunited.org/events/aa-meetings-at-the-rose
 dale-centre--279/2026-10-08
END:VEVENT
END:VCALENDAR
